Workbook
Name PUISSANCE: [1]Listing!$D$2:$D$3
Name PUISSANCE: Listing!$D$2:$D$3
Name TENSION: [1]Listing!$A$2:$A$3
Name TENSION: Listing!$A$2:$A$3

Sheet MONO C4
L1: Entreprise
L2: Raison sociale | N2: COMPAGNIE DE PHALSBOURG
L3: SIREN | N3: 34954510300112
C4: Votre interlocuteur | L4: Signataire
C5: Courtier | D5: DAVID COHEN | L5: Prénom NOM | N5: Julien DUCASSE
C6: Téléphone | D6: 01 83 80 60 12 | L6: Téléphone | N6: 06 68 65 00 46
C7: Email | D7: david@cynergia.fr | L7: Email | N7: jducasse@compagniedephalsbourg.com
C9: INFORMATIONS COMPTEURS
C10: SITE DE CONSOMMATION | E10: SIRET | F10: RAE | H10: DATE D'EFFET | I10: Profil | J10: Segment | K10: Puissance (KVA) | L10: Consommation annuelle (en MWH)
L11: PTE | M11: HPH | N11: HCH | O11: HPE | P11: HCE | Q11: CAR
C12: SCI SAMUEL | F12: 30002111889984 | G12: 30002111889984 | H12: 45261 | I12: BT-LU-4-SUP 36 | J12: C4 | K12: 42 | M12: 9.7307694 | N12: 7.9957199 | O12: 6.4047867 | P12: 12.822428 | Q12: =SUM(L12:P12) -> 36.953704
C13: SCI VICTOIRE | F13: 30002221365346 | G13: 30002221365346 | H13: 45261 | I13: BT-CU-4-SUP 36 | J13: C4 | K13: 42 | M13: 8.1728457 | N13: 7.2814587 | O13: 6.8810435 | P13: 9.9965538 | Q13: =SUM(L13:P13) -> 32.331902
C14: SCI VICTOIRE | F14: 30002221649944 | G14: 30002221649944 | H14: 45261 | I14: BT-CU-4-SUP 36 | J14: C4 | K14: 48 | M14: 9.0186805 | N14: 8.7980955 | O14: 8.1297168 | P14: 11.499487 | Q14: =SUM(L14:P14) -> 37.44598
C15: SCI SIMONE | F15: 30002241803883 | G15: 30002241803883 | H15: 45261 | I15: BT-CU-4-SUP 36 | J15: C4 | K15: 48 | M15: 32.756421 | N15: 9.3811863 | O15: 43.949364 | P15: 15.469309 | Q15: =SUM(L15:P15) -> 101.55628
C16: SCI NINON | F16: 30002591007923 | G16: 30002591007923 | H16: 45261 | I16: BT-CU-4-SUP 36 | J16: C4 | K16: 42 | M16: 3.1468658 | N16: 4.3316268 | O16: 1.1619599 | P16: 4.0718182 | Q16: =SUM(L16:P16) -> 12.712271
C17: SARL TARA | F17: 50002557711083 | G17: 50002557711083 | H17: 45261 | I17: BT-CU-4-SUP 36 | J17: C4 | K17: 119 | M17: 30.838613 | N17: 8.9191897 | O17: 53.855038 | P17: 14.438355 | Q17: =SUM(L17:P17) -> 108.0512
C18: SCI VENDOME OUTLET FILTRATIC | F18: 50004591259260 | G18: 50004591259260 | H18: 45261 | I18: BT-CU-4-SUP 36 | J18: C4 | K18: 240 | M18: 40.46158 | N18: 18.868556 | O18: 63.183735 | P18: 29.773671 | Q18: =SUM(L18:P18) -> 152.28754
C19: SDC MY PLACE | F19: 50005499266657 | G19: 50005499266657 | H19: 45261 | I19: BT-CU-4-SUP 36 | J19: C4 | K19: 90 | M19: 33.377123 | N19: 16.438354 | O19: 41.287929 | P19: 20.281428 | Q19: =SUM(L19:P19) -> 111.38483
C20: MON BEAU BUCHELAY | F20: 50010804651509 | G20: 50010804651509 | H20: 45261 | I20: HT-CU-5-SUP 36 | J20: C2 | K20: 1000 | M20: 275.13331 | N20: 222.10645 | O20: 264.68581 | P20: 199.76652 | Q20: =SUM(L20:P20) -> 961.6921
C21: SCI VENDOME OUTLET SHOW | F21: 50017615860583 | G21: 50017615860583 | H21: 45261 | I21: BT-CU-4-SUP 36 | J21: C4 | K21: 240 | M21: 51.398134 | N21: 25.249513 | O21: 84.526576 | P21: 41.682139 | Q21: =SUM(L21:P21) -> 202.85636
C22: SDC MY PLACE | F22: 50023444276450 | G22: 50023444276450 | H22: 45261 | I22: HT-CU-5-SUP 36 | J22: C2 | K22: 600 | M22: 428.04191 | N22: 221.26121 | O22: 675.43072 | P22: 321.38179 | Q22: =SUM(L22:P22) -> 1646.1156
C23: SCI MARTIN ET LOLA | F23: 50028509398804 | G23: 50028509398804 | H23: 45261 | I23: BT-LU-4-SUP 36 | J23: C4 | K23: 42 | M23: 7.2322069 | N23: 4.1325733 | O23: 6.2747166 | P23: 4.159481 | Q23: =SUM(L23:P23) -> 21.798978
... C25: IQC ASSET MANAGEMENT | F25: 50068706048308 | G25: 50068706048308 | H25: 45261 | I25: BT-CU-4-SUP 36 | J25: C4 | K25: 37 | M25: 12.043807 | N25: 8.1799592 | O25: 10.523341 | P25: 10.449534 | Q25: =SUM(L25:P25) -> 41.196641
C26: Ma petite madeleine | D26: Ma petite madeleine | F26: 50071744623360 | G26: 50071744623360 | H26: 45261 | I26: BT-CU-4-SUP 36 | J26: C4 | K26: 108 | M26: 46.279106 | N26: 20.759967 | O26: 27.742625 | P26: 26.032505 | Q26: =SUM(L26:P26) -> 120.8142
C27: Ma petite madeleine | D27: Ma petite madeleine | F27: 50051339413535 | G27: 50051339413535 | H27: 45261 | I27: BT-CU-4-SUP 36 | J27: C4 | K27: 60 | M27: 26.920962 | N27: 12.451508 | O27: 12.086517 | P27: 11.621148 | Q27: =SUM(L27:P27) -> 63.080134
C28: Ma petite madeleine | D28: Ma petite madeleine | F28: 50009515969247 | G28: 50009515969247 | H28: 45261 | I28: BT-CU-4-SUP 36 | J28: C4 | K28: 90 | M28: 74.793679 | N28: 23.235183 | O28: 68.125066 | P28: 19.866447 | Q28: =SUM(L28:P28) -> 186.02037
C29: SDC MY PLACE | F29: 50073516633032 | G29: 50073516633032 | H29: 45261 | I29: BT-CU-4-SUP 36 | J29: C4 | K29: 66 | M29: 16.639532 | N29: 14.588951 | O29: 10.407278 | P29: 19.506463 | Q29: =SUM(L29:P29) -> 61.142224
C30: SCI SAUVEUR | F30: 50085238774570 | G30: 50085238774570 | H30: 45261 | I30: BT-CU-4-SUP 36 | J30: C4 | K30: 37 | M30: 36.881372 | N30: 17.737889 | O30: 35.871675 | P30: 21.696032 | Q30: =SUM(L30:P30) -> 112.18697
C31: SITE DE PLAISIR | F31: 50089245655901 | G31: 50089245655901 | H31: 45261 | I31: HT-CU-5-SUP 36 | J31: C2 | K31: 450 | M31: 331.44011 | N31: 215.30145 | O31: 548.47599 | P31: 297.85715 | Q31: =SUM(L31:P31) -> 1393.0747
C32: SCI VENDOME OUTLET COMMU | F32: 50092433349170 | G32: 50092433349170 | H32: 45261 | I32: HT-LU-5-SUP 36 | J32: C2 | K32: 500 | M32: 358.17938 | N32: 190.92137 | O32: 432.77029 | P32: 219.10269 | Q32: =SUM(L32:P32) -> 1200.9737
C33: SDC MY PLACE | F33: 50096526723318 | G33: 50096526723318 | H33: 45261 | I33: BT-CU-4-SUP 36 | J33: C4 | K33: 72 | M33: 35.102146 | N33: 15.965072 | O33: 36.512687 | P33: 22.085681 | Q33: =SUM(L33:P33) -> 109.66559
I34: HT-LU-5-SUP 36 | Q34: =SUM(L34:P34) -> 0
I35: HT-LU-5-SUP 36 | Q35: =SUM(L35:P35) -> 0
I36: BT-LU-4-SUP 36 | Q36: =SUM(L36:P36) -> 0
I37: HT-LU-5-SUP 36 | Q37: =SUM(L37:P37) -> 0
I38: HT-LU-5-SUP 36 | Q38: =SUM(L38:P38) -> 0
P39: =SUM(AI39) -> 0
B40: PRIX ACTUEL
B41: SITE | C41: Abonnement (€/mois) | D41: Prix Electricité (en €/MWH) | I41: Budget annuel (€ HT) | J41: Budget Obligations (en €/MWH) | P41: Budget Annuel Estimé Electricité & Obligations(€ HT) | R41: TVA | S41: BUDGET TTC
D42: PTE | E42: HPH | F42: HCH | G42: HPE | H42: HCE | J42: CEE | K42: Coût de capacité (estimation) | L42: TURPE | M42: CSPE | N42: TCFE | O42: Total Budget Obligation
...

Sheet RESUME
E4: ARENH | F4: FIXE | G4: FIXE
C5: ='MONO C4'!C12 -> SCI SAMUEL | D5: ='MONO C4'!S43 -> 9108.4995 | E5: ='MONO C4'!S92 -> 9204.7439 | F5: ='MONO C4'!S124 -> 10780.623 | G5: ='MONO C4'!S151 -> 12941.797
C6: ='MONO C4'!C13 -> SCI VICTOIRE | D6: ='MONO C4'!S44 -> 7825.9537 | E6: ='MONO C4'!S93 -> 7943.4018 | F6: ='MONO C4'!S125 -> 9508.3633 | G6: ='MONO C4'!S152 -> 11149.611
C7: ='MONO C4'!C14 -> SCI VICTOIRE | D7: ='MONO C4'!S45 -> 8901.9102 | E7: ='MONO C4'!S94 -> 8988.5717 | F7: ='MONO C4'!S126 -> 11713.39 | G7: ='MONO C4'!S153 -> 12704.287
C8: ='MONO C4'!C15 -> SCI SIMONE | D8: ='MONO C4'!S46 -> 21449.885 | E8: ='MONO C4'!S95 -> 25173.848 | F8: ='MONO C4'!S127 -> 28971.737 | G8: ='MONO C4'!S154 -> 35072.902
C9: ='MONO C4'!C16 -> SCI NINON | D9: ='MONO C4'!S47 -> 4054.21 | E9: ='MONO C4'!S96 -> 4087.8308 | F9: ='MONO C4'!S128 -> 6120.2849 | G9: ='MONO C4'!S155 -> 5174.7148
C10: ='MONO C4'!C17 -> SARL TARA | D10: ='MONO C4'!S48 -> 23743.674 | E10: ='MONO C4'!S97 -> 26278.66 | F10: ='MONO C4'!S129 -> 32796.609 | G10: ='MONO C4'!S156 -> 37448.124
C11: ='MONO C4'!C18 -> SCI VENDOME OUTLET FILTRATIC | D11: ='MONO C4'!S49 -> 34214.163 | E11: ='MONO C4'!S98 -> 36475.592 | F11: ='MONO C4'!S130 -> 43760.147 | G11: ='MONO C4'!S157 -> 52397.596
C12: ='MONO C4'!C19 -> SDC MY PLACE | D12: ='MONO C4'!S50 -> 40264.459 | E12: ='MONO C4'!S99 -> 27714.099 | F12: ='MONO C4'!S131 -> 46459.227 | G12: ='MONO C4'!S158 -> 38260.091
C13: ='MONO C4'!C20 -> MON BEAU BUCHELAY | D13: ='MONO C4'!S51 -> 286999.47 | E13: ='MONO C4'!S100 -> 205011.28 | F13: ='MONO C4'!S132 -> 241915.72 | G13: ='MONO C4'!S159 -> 303514.31
C14: ='MONO C4'!C21 -> SCI VENDOME OUTLET SHOW | D14: ='MONO C4'!S52 -> 43870.597 | E14: ='MONO C4'!S101 -> 45772.141 | F14: ='MONO C4'!S133 -> 78917.14 | G14: ='MONO C4'!S160 -> 67474.535
C15: ='MONO C4'!C22 -> SDC MY PLACE | D15: ='MONO C4'!S53 -> 301362.7 | E15: ='MONO C4'!S102 -> 318920.78 | F15: ='MONO C4'!S134 -> 380097.41 | G15: ='MONO C4'!S161 -> 498897.35
C16: ='MONO C4'!C23 -> SCI MARTIN ET LOLA | D16: ='MONO C4'!S54 -> 6289.8621 | E16: ='MONO C4'!S103 -> 7162.4255 | F16: ='MONO C4'!S135 -> 11762.225 | G16: ='MONO C4'!S162 -> 8998.0294
... C26: ='MONO C4'!C33 -> SDC MY PLACE | D26: ='MONO C4'!S64 -> 23459.555 | E26: ='MONO C4'!S113 -> 27570.45 | F26: ='MONO C4'!S145 -> 31147.127 | G26: ='MONO C4'!S172 -> 37841.699
C27: TOTAL | D27: =SUM(D5:D26) -> 1745328.5 | E27: =SUM(E5:E26) -> 1491799.4 | F27: =SUM(F5:F26) -> 1843948.6 | G27: =SUM(G5:G26) -> 2206926.3

Sheet CAPA ENGIE
F2: PRIX MWh
A3: ENGIE | B3: PTE : HPH : HCH : HPE : HCE : | C3: Coef capa * moyenne enchere n-4 | F3: =G11/G18 -> 3.0917584 | G3: ENGIE | J3: ENCHERE ENGIE | K3: 31.2418
A7: COEFFICIENT | B7: PTE / BASE | C7: HPH / HP | D7: HCH / HC | E7: HPE | F7: HCE
C8: 0.6361 | D8: 0.014 | E8: -0.0942 | F8: -0.1592
A10: * Enchère | B10: =B8*$K$3 -> 0 | C10: =C8*$K$3 -> 19.872909 | D10: =D8*$K$3 -> 0.4373852 | E10: =E8*$K$3 -> -2.9429776 | F10: =F8*$K$3 -> -4.9736946
A11: * Conso | B11: =B10*B18 -> 0 | C11: =C10*C18 -> 193.37869 | D11: =D10*D18 -> 3.4972095 | E11: =E10*E18 -> -18.849144 | F11: =F10*F18 -> -63.774839 | G11: =SUM(B11:F11) -> 114.25192
A17: CONSOMATION EN MWh | B17: PTE / BASE | C17: HPH / HP | D17: HCH / HC | E17: HPE | F17: HCE | G17: TOTAL
C18: ='MONO C4'!M12 -> 9.7307694 | D18: ='MONO C4'!N12 -> 7.9957199 | E18: ='MONO C4'!O12 -> 6.4047867 | F18: ='MONO C4'!P12 -> 12.822428 | G18: =SUM(B18:F18) -> 36.953704

Sheet TURPE
A1: Composante de comptage
B3: Propriétes Equipement Comptage | C3: Tarif Transport | D3: Type Equipement Comptage | E3: COMPOSANTE DE COMPTAGE
A4: 1 | B4: LOCATAIRE | C4: BT ≤ 36 Kva | E4: 18.24
A5: 2
A6: 3 | C6: BT > 36 kVA | E6: 234.9
A7: 4 | I7: CONSOMATION EN MWh | J7: PTE / BASE | K7: HPH / HP | L7: HCH / HC | M7: HPE | N7: HCE | O7: TOTAL
A8: 5 | C8: HTA | E8: 312.12 | J8: =#REF! -> #REF! | K8: =#REF! -> #REF! | L8: =#REF! -> #REF! | M8: =#REF! -> #REF! | N8: =#REF! -> #REF! | O8: =SUM(J8:N8) -> #REF!
A9: 6 | B9: PROPRIETAIRE | C9: BT ≤ 36 Kva | E9: 18.24
A10: 7 | I10: PUISSSANCE | J10: =#REF! -> #REF!
A11: 8 | C11: BT > 36 kVA | E11: 234.9
A12: 9
A13: 10 | C13: HTA | E13: 312.12
A14: 11 | D14: Sans Comptage | E14: 1.45 | I14: INDEX | K14: FIXE | L14: VARIABLE | M14: FIXE + VARIABLE | N14: PRIX AU MWh
G15: =H15&"-"&J15&"-"&I15&"-"&O15 -> BT-CU-1-INF 36 | H15: BT | I15: 1 | J15: CU | K15: =E4+C19+E26 -> #REF! | L15: =D41*O8 -> #REF! | M15: =SUM(K15:L15) -> #REF! | N15: =M15/$O$8 -> #REF! | O15: INF 36
A16: Composante de gestion | G16: =H16&"-"&J16&"-"&I16&"-"&O16 -> BT-LU-1-INF 36 | H16: BT | I16: 1 | J16: LU | K16: =E4+C19+E27 -> #REF! | L16: =D42*O8 -> #REF! | M16: =SUM(K16:L16) -> #REF! | N16: =M16/$O$8 -> #REF! | O16: INF 36
G17: =H17&"-"&J17&"-"&I17&"-"&O17 -> BT-LU-1-INF 36 | H17: BT | I17: 1 | J17: LU | K17: =E4+C19+E28 -> #REF! | L17: =D42*O8 -> #REF! | M17: =SUM(K17:L17) -> #REF! | N17: =M17/$O$8 -> #REF! | O17: INF 36
B18: Type Comptage | C18: COMPOSANTE DE GESTION | G18: =H18&"-"&J18&"-"&I18&"-"&O18 -> BT-MU-2-INF 36 | H18: BT | I18: 2 | J18: MU | K18: =E4+C19+E29 -> #REF! | L18: =K8*E43+L8*F43 -> #REF! | M18: =SUM(K18:L18) -> #REF! | N18: =M18/$O$8 -> #REF! | O18: INF 36
A19: 1 | B19: BT ≤ 36 kVA | C19: 13.92 | G19: =H19&"-"&J19&"-"&I19&"-"&O19 -> BT-CU-4-INF 36 | H19: BT | I19: 4 | J19: CU | K19: =E4+C19+E30 -> #REF! | L19: =H44*K8+J44*L8+N44*M8+O44*N8 -> #REF! | M19: =SUM(K19:L19) -> #REF! | N19: =M19/$O$8 -> #REF! | O19: INF 36
A20: 2 | B20: BT > 36 kVA | C20: 184.8 | G20: =H20&"-"&J20&"-"&I20&"-"&O20 -> BT-MU-4-INF 36 | H20: BT | I20: 4 | J20: MU | K20: =E4+C19+E31 -> #REF! | L20: =H45*K8+J45*L8+N45*M8+O45*N8 -> #REF! | M20: =SUM(K20:L20) -> #REF! | N20: =M20/$O$8 -> #REF! | O20: INF 36
A21: 3 | B21: HTA | C21: 369.6 | G21: =H21&"-"&J21&"-"&I21&"-"&O21 -> BT-CU-4-SUP 36 | H21: BT | I21: 4 | J21: CU | K21: =E6+C20+E32 -> #REF! | L21: =H46*K8+J46*L8+L46*M8+M46*N8 -> #REF! | M21: =SUM(K21:L21) -> #REF! | N21: =M21/$O$8 -> #REF! | O21: SUP 36
G22: =H22&"-"&J22&"-"&I22&"-"&O22 -> BT-LU-4-SUP 36 | H22: BT | I22: 4 | J22: LU | K22: =E6+C20+E33 -> #REF! | L22: =G47*$J$8+H47*$K$8+J47*$L$8+L47*$M$8+M47*$N$8 -> #REF! | M22: =SUM(K22:L22) -> #REF! | N22: =M22/$O$8 -> #REF! | O22: SUP 36
A23: Composante de soutirage part fixe | G23: =H23&"-"&J23&"-"&I23&"-"&O23 -> HT-CU-5-SUP 36 | H23: HT | I23: 5 | J23: CU | K23: =E8+C21+E34 -> #REF! | L23: =G48*$J$8+H48*$K$8+J48*$L$8+L48*$M$8+M48*$N$8 -> #REF! | M23: =SUM(K23:L23) -> #REF! | N23: =M23/$O$8 -> #REF! | O23: SUP 36
G24: =H24&"-"&J24&"-"&I24&"-"&O24 -> HT-LU-5-SUP 36 | H24: HT | I24: 5 | J24: LU | K24: =E8+C21+E35 -> #REF! | L24: =G49*$J$8+H49*$K$8+J49*$L$8+L49*$M$8+M49*$N$8 -> #REF! | M24: =SUM(K24:L24) -> #REF! | N24: =M24/$O$8 -> #REF! | O24: SUP 36
B25: Type de Comptage | C25: Version Utilisation | D25: Composante de Soutirage : Part Fixe | E25: * la puissance | G25: =H25&"-"&J25&"-"&I25&"-"&O25 -> HT-CU-5,1-SUP 36 | H25: HT | I25: 5.1 | J25: CU | K25: =E8+C21+E36 -> #REF! | L25: =G50*$J$8+H50*$K$8+J50*$L$8+L50*$M$8+M50*$N$8 -> #REF! | M25: =SUM(K25:L25) -> #REF! | N25: =M25/$O$8 -> #REF! | O25: SUP 36
A26: 1 | B26: BT <= 36 simple | C26: CU | D26: 8.52 | E26: =D26*$J$10 -> #REF! | G26: =H26&"-"&J26&"-"&I26&"-"&O26 -> HT-LU-5,1-SUP 36 | H26: HT | I26: 5.1 | J26: LU | K26: =E8+C21+E37 -> #REF! | L26: =G51*$J$8+H51*$K$8+J51*$L$8+L51*$M$8+M51*$N$8 -> #REF! | M26: =SUM(K26:L26) -> #REF! | N26: =M26/$O$8 -> #REF! | O26: SUP 36
A27: 2 | C27: LU | D27: 76.44 | E27: =D27*$J$10 -> #REF! | I27: 5,1 = pointe mobile
A28: 3 | B28: BT <= 36 simple EP | C28: LU | D28: 76.44 | E28: =D28*$J$10 -> #REF!
A29: 4 | B29: BT <= 36 double | C29: MU | D29: 10.32 | E29: =D29*$J$10 -> #REF!
A30: 5 | B30: BT <= 36 4 index | C30: CU | D30: 8.4 | E30: =D30*$J$10 -> #REF!
A31: 6 | C31: MU | D31: 9.96 | E31: =D31*$J$10 -> #REF!
A32: 7 | B32: 4 INDEX | C32: CU | D32: 11.61 | E32: =D32*$J$10 -> #REF!
A33: 8 | C33: LU | D33: 20.57 | E33: =D33*$J$10 -> #REF!
A34: 9 | B34: 5 INDEX | C34: CU | D34: 4.88 | E34: =D34*$J$10 -> #REF!
A35: 10 | C35: LU | D35: 19.36 | E35: =D35*$J$10 -> #REF!
A36: 11 | B36: 5 INDEX PM | C36: CU | D36: 5.34 | E36: =D36*$J$10 -> #REF!
A37: 12 | C37: LU | D37: 21.81 | E37: =D37*$J$10 -> #REF!
A38: Composante de soutirage part variable
B40: Type de Comptage | C40: Version Utilisation | D40: Conso Simple | E40: HP | F40: HC | G40: PTE | H40: HPH | I40: HPD | J40: HCH | K40: HCD | L40: HPE | M40: HCE | N40: HPB | O40: HCB
A41: 1 | B41: BT <= 36 simple BT <= 36 simple EP | C41: CU | D41: 37.1
A42: 2 | C42: LU | D42: 10.4
...

Sheet TURPE (2)
B1: SEGMENT | C1: FTA | D1: UTILISATION | E1: INDEX | F1: COMPOSANTE DE COMPTAGE | G1: COMPOSANTE DE GESTION | H1: COMPOSANTE DE SOUTIRAGE PART FIXE | I1: TURPE FIXE | J1: Prix au MWH | L1: COMPOSANTE DE SOUTIRAGE PART VARIABLE | T1: TURPE VARIABLE | U1: Prix au MWH
L2: BASE | M2: HP | N2: HC | O2: PTE / BASE | P2: HPH / HP | Q2: HCH / HC | R2: HPE | S2: HCE
A3: BT-CU-1-INF 36 | B3: C5 | C3: BT ≤ 36 Kva | D3: CU | E3: 1 | F3: 18.24 | G3: 13.92 | H3: 8.52 | I3: STOCKAGE + GESTION + (SOUTIRAGE PART FIXE * Puissance souscrite) | J3: = TURPE FIXE / CAR (consommation annuelle) | L3: 37.1 | O3: 37.1 | T3: CONSO PAR POSTE * COMPOSANTE PART VARIABLE | U3: = TURPE VARIABLE / CAR (consommation annuelle)
A4: BT-MU-2-INF 36 | B4: C5 | C4: BT ≤ 36 Kva | D4: MU | E4: 2 | F4: 18.24 | G4: 13.92 | H4: 10.32 | M4: 37.9 | N4: 26.8 | P4: 37.9 | Q4: 26.8
A5: BT-CU-4-INF 36 | B5: C5 | C5: BT ≤ 36 Kva | D5: 4 POSTES - CU | E5: 4 | F5: 18.24 | G5: 13.92 | H5: 8.4 | P5: 62.7 | Q5: 42.9 | R5: 13.4 | S5: 8.3
A6: BT-MU-4-INF 36 | B6: C5 | C6: BT ≤ 36 Kva | D6: 4 POSTES - MU | E6: 4 | F6: 18.24 | G6: 13.92 | H6: 9.96 | P6: 57.5 | Q6: 39.9 | R6: 13.1 | S6: 8.2
A7: BT-LU-1-INF 36 | B7: C5 | C7: BT ≤ 36 Kva | D7: LU EP | E7: 1 | F7: 18.24 | G7: 13.92 | H7: 76.44 | L7: 10.4 | O7: 10.4
A8: BT-CU-4-SUP 36 | B8: C4 | C8: BT > 36 kVA | D8: CU | E8: 4 | F8: 234.9 | G8: 184.8 | H8: 11.61 | P8: 51.5 | Q8: 33.6 | R8: 22.8 | S8: 18
A9: BT-LU-4-SUP 36 | B9: C4 | C9: BT > 36 kVA | D9: LU | E9: 4 | F9: 234.9 | G9: 184.8 | H9: 20.57 | O9: 44.3 | P9: 44.3 | Q9: 31.1 | R9: 20 | S9: 17
A10: HT-CU-5-SUP 36 | B10: C3 | C10: HTA | D10: PF CU | E10: 5 | F10: 312.12 | G10: 369.6 | H10: 4.88 | O10: 37.3 | P10: 32 | Q10: 21.7 | R10: 16.4 | S10: 10.1
A11: HT-CU-5,1-SUP 36 | B11: C3 | C11: HTA | D11: PM CU | E11: 5.1 | F11: 312.12 | G11: 369.6 | H11: 5.34 | O11: 47.8 | P11: 30.7 | Q11: 21.7 | R11: 16.4 | S11: 10.1
A12: HT-LU-5-SUP 36 | B12: C3 | C12: HTA | D12: PF LU | E12: 5 | F12: 312.12 | G12: 369.6 | H12: 19.36 | O12: 28 | P12: 21.1 | Q12: 13.8 | R12: 8.9 | S12: 7.7
A13: HT-LU-5,1-SUP 36 | B13: C3 | C13: HTA | D13: PM LU | E13: 5.1 | F13: 312.12 | G13: 369.6 | H13: 21.81 | O13: 32.1 | P13: 19.3 | Q13: 13.8 | R13: 8.9 | S13: 7.7
B14: C2 | C14: HTA | D14: PF CU | E14: 5 | F14: 312.12 | G14: 369.6 | H14: 4.88 | O14: 37.3 | P14: 32 | Q14: 21.7 | R14: 16.4 | S14: 10.1
B15: C2 | C15: HTA | D15: PM CU | E15: 5.1 | F15: 312.12 | G15: 369.6 | H15: 5.34 | O15: 47.8 | P15: 30.7 | Q15: 21.7 | R15: 16.4 | S15: 10.1
B16: C2 | C16: HTA | D16: PF LU | E16: 5 | F16: 312.12 | G16: 369.6 | H16: 19.36 | O16: 28 | P16: 21.1 | Q16: 13.8 | R16: 8.9 | S16: 7.7
B17: C2 | C17: HTA | D17: PM LU | E17: 5.1 | F17: 312.12 | G17: 369.6 | H17: 21.81 | O17: 32.1 | P17: 19.3 | Q17: 13.8 | R17: 8.9 | S17: 7.7
B18: C1 | C18: HTA | D18: PF CU | E18: 5 | F18: 312.12 | G18: 369.6 | H18: 4.88 | O18: 37.3 | P18: 32 | Q18: 21.7 | R18: 16.4 | S18: 10.1
B19: C1 | C19: HTA | D19: PM CU | E19: 5.1 | F19: 312.12 | G19: 369.6 | H19: 5.34 | O19: 47.8 | P19: 30.7 | Q19: 21.7 | R19: 16.4 | S19: 10.1
B20: C1 | C20: HTA | D20: PF LU | E20: 5 | F20: 312.12 | G20: 369.6 | H20: 19.36 | O20: 28 | P20: 21.1 | Q20: 13.8 | R20: 8.9 | S20: 7.7
B21: C1 | C21: HTA | D21: PM LU | E21: 5.1 | F21: 312.12 | G21: 369.6 | H21: 21.81 | O21: 32.1 | P21: 19.3 | Q21: 13.8 | R21: 8.9 | S21: 7.7
E25: CONSOMATION EN MWh | F25: PTE / BASE | G25: HPH / HP | H25: HCH / HC | I25: HPE | J25: HCE | K25: TOTAL | M25: TURPE | N25: FIXE | O25: VARIABLE | P25: FIXE+VARIABLE | Q25: PRIX €/MWh | S25: CTA | T25: FIXE MENSUEL | U25: VARIABLE EN MWH
B26: PUISSANCE | C26: ='MONO C4'!K12 -> 42 | F26: ='MONO C4'!L12 -> 0 | G26: ='MONO C4'!M12 -> 9.7307694 | H26: ='MONO C4'!N12 -> 7.9957199 | I26: ='MONO C4'!O12 -> 6.4047867 | J26: ='MONO C4'!P12 -> 12.822428 | K26: =SUM(F26:J26) -> 36.953704 | N26: =VLOOKUP('MONO C4'!I12,$A$3:$H$13,6,FALSE)+VLOOKUP('MONO C4'!I12,$A$3:$H$13,7,)+VLOOKUP('MONO C4'!I12,$A$3:$H$13,8,)*C26 -> 1283.64 | O26: =VLOOKUP('MONO C4'!I12,$A$3:$S$13,15,FALSE)*'TURPE (2)'!F26+VLOOKUP('MONO C4'!I12,$A$3:$S$13,16,FALSE)*'TURPE (2)'!G26+VLOOKUP('MONO C4'!I12,$A$3:$S$13,17,FALSE)*'TURPE (2)'!H26+VLOOKUP('MONO C4'!I12,$A$3:$S$13,18,FALSE)*'TURPE (2)'!I26+VLOOKUP('MONO C4'!I12,$A$3:$S$13,19,FALSE)*'TURPE (2)'!J26 -> 1025.817 | P26: =N26+O26 -> 2309.457 | Q26: =P26/K26 -> 62.495954 | S26: =N26*0.2193 -> 281.50225 | T26: =N26/12 -> 106.97 | U26: =O26/K26 -> 27.759517
C27: ='MONO C4'!K13 -> 42 | F27: ='MONO C4'!L13 -> 0 | G27: ='MONO C4'!M13 -> 8.1728457 | H27: ='MONO C4'!N13 -> 7.2814587 | I27: ='MONO C4'!O13 -> 6.8810435 | J27: ='MONO C4'!P13 -> 9.9965538 | K27: =SUM(F27:J27) -> 32.331902 | N27: =VLOOKUP('MONO C4'!I13,$A$3:$H$13,6,FALSE)+VLOOKUP('MONO C4'!I13,$A$3:$H$13,7,)+VLOOKUP('MONO C4'!I13,$A$3:$H$13,8,)*C27 -> 907.32 | O27: =VLOOKUP('MONO C4'!I13,$A$3:$S$13,15,FALSE)*'TURPE (2)'!F27+VLOOKUP('MONO C4'!I13,$A$3:$S$13,16,FALSE)*'TURPE (2)'!G27+VLOOKUP('MONO C4'!I13,$A$3:$S$13,17,FALSE)*'TURPE (2)'!H27+VLOOKUP('MONO C4'!I13,$A$3:$S$13,18,FALSE)*'TURPE (2)'!I27+VLOOKUP('MONO C4'!I13,$A$3:$S$13,19,FALSE)*'TURPE (2)'!J27 -> 1002.3843 | P27: =N27+O27 -> 1909.7043 | Q27: =P27/K27 -> 59.065636 | S27: =N27*0.2193 -> 198.97528 | T27: =N27/12 -> 75.61 | U27: =O27/K27 -> 31.00295
C28: ='MONO C4'!K14 -> 48 | F28: ='MONO C4'!L14 -> 0 | G28: ='MONO C4'!M14 -> 9.0186805 | H28: ='MONO C4'!N14 -> 8.7980955 | I28: ='MONO C4'!O14 -> 8.1297168 | J28: ='MONO C4'!P14 -> 11.499487 | K28: =SUM(F28:J28) -> 37.44598 | N28: =VLOOKUP('MONO C4'!I14,$A$3:$H$13,6,FALSE)+VLOOKUP('MONO C4'!I14,$A$3:$H$13,7,)+VLOOKUP('MONO C4'!I14,$A$3:$H$13,8,)*C28 -> 976.98 | O28: =VLOOKUP('MONO C4'!I14,$A$3:$S$13,15,FALSE)*'TURPE (2)'!F28+VLOOKUP('MONO C4'!I14,$A$3:$S$13,16,FALSE)*'TURPE (2)'!G28+VLOOKUP('MONO C4'!I14,$A$3:$S$13,17,FALSE)*'TURPE (2)'!H28+VLOOKUP('MONO C4'!I14,$A$3:$S$13,18,FALSE)*'TURPE (2)'!I28+VLOOKUP('MONO C4'!I14,$A$3:$S$13,19,FALSE)*'TURPE (2)'!J28 -> 1152.4264 | P28: =N28+O28 -> 2129.4064 | Q28: =P28/K28 -> 56.866088 | S28: =N28*0.2193 -> 214.25171 | T28: =N28/12 -> 81.415 | U28: =O28/K28 -> 30.775703
C29: ='MONO C4'!K15 -> 48 | F29: ='MONO C4'!L15 -> 0 | G29: ='MONO C4'!M15 -> 32.756421 | H29: ='MONO C4'!N15 -> 9.3811863 | I29: ='MONO C4'!O15 -> 43.949364 | J29: ='MONO C4'!P15 -> 15.469309 | K29: =SUM(F29:J29) -> 101.55628 | N29: =VLOOKUP('MONO C4'!I15,$A$3:$H$13,6,FALSE)+VLOOKUP('MONO C4'!I15,$A$3:$H$13,7,)+VLOOKUP('MONO C4'!I15,$A$3:$H$13,8,)*C29 -> 976.98 | O29: =VLOOKUP('MONO C4'!I15,$A$3:$S$13,15,FALSE)*'TURPE (2)'!F29+VLOOKUP('MONO C4'!I15,$A$3:$S$13,16,FALSE)*'TURPE (2)'!G29+VLOOKUP('MONO C4'!I15,$A$3:$S$13,17,FALSE)*'TURPE (2)'!H29+VLOOKUP('MONO C4'!I15,$A$3:$S$13,18,FALSE)*'TURPE (2)'!I29+VLOOKUP('MONO C4'!I15,$A$3:$S$13,19,FALSE)*'TURPE (2)'!J29 -> 3282.6566 | P29: =N29+O29 -> 4259.6366 | Q29: =P29/K29 -> 41.943606 | S29: =N29*0.2193 -> 214.25171 | T29: =N29/12 -> 81.415 | U29: =O29/K29 -> 32.323521
C30: ='MONO C4'!K16 -> 42 | F30: ='MONO C4'!L16 -> 0 | G30: ='MONO C4'!M16 -> 3.1468658 | H30: ='MONO C4'!N16 -> 4.3316268 | I30: ='MONO C4'!O16 -> 1.1619599 | J30: ='MONO C4'!P16 -> 4.0718182 | K30: =SUM(F30:J30) -> 12.712271 | N30: =VLOOKUP('MONO C4'!I16,$A$3:$H$13,6,FALSE)+VLOOKUP('MONO C4'!I16,$A$3:$H$13,7,)+VLOOKUP('MONO C4'!I16,$A$3:$H$13,8,)*C30 -> 907.32 | O30: =VLOOKUP('MONO C4'!I16,$A$3:$S$13,15,FALSE)*'TURPE (2)'!F30+VLOOKUP('MONO C4'!I16,$A$3:$S$13,16,FALSE)*'TURPE (2)'!G30+VLOOKUP('MONO C4'!I16,$A$3:$S$13,17,FALSE)*'TURPE (2)'!H30+VLOOKUP('MONO C4'!I16,$A$3:$S$13,18,FALSE)*'TURPE (2)'!I30+VLOOKUP('MONO C4'!I16,$A$3:$S$13,19,FALSE)*'TURPE (2)'!J30 -> 407.39166 | P30: =N30+O30 -> 1314.7117 | Q30: =P30/K30 -> 103.42068 | S30: =N30*0.2193 -> 198.97528 | T30: =N30/12 -> 75.61 | U30: =O30/K30 -> 32.04712
C31: ='MONO C4'!K17 -> 119 | F31: ='MONO C4'!L17 -> 0 | G31: ='MONO C4'!M17 -> 30.838613 | H31: ='MONO C4'!N17 -> 8.9191897 | I31: ='MONO C4'!O17 -> 53.855038 | J31: ='MONO C4'!P17 -> 14.438355 | K31: =SUM(F31:J31) -> 108.0512 | N31: =VLOOKUP('MONO C4'!I17,$A$3:$H$13,6,FALSE)+VLOOKUP('MONO C4'!I17,$A$3:$H$13,7,)+VLOOKUP('MONO C4'!I17,$A$3:$H$13,8,)*C31 -> 1801.29 | O31: =VLOOKUP('MONO C4'!I17,$A$3:$S$13,15,FALSE)*'TURPE (2)'!F31+VLOOKUP('MONO C4'!I17,$A$3:$S$13,16,FALSE)*'TURPE (2)'!G31+VLOOKUP('MONO C4'!I17,$A$3:$S$13,17,FALSE)*'TURPE (2)'!H31+VLOOKUP('MONO C4'!I17,$A$3:$S$13,18,FALSE)*'TURPE (2)'!I31+VLOOKUP('MONO C4'!I17,$A$3:$S$13,19,FALSE)*'TURPE (2)'!J31 -> 3375.6586 | P31: =N31+O31 -> 5176.9486 | Q31: =P31/K31 -> 47.911997 | S31: =N31*0.2193 -> 395.0229 | T31: =N31/12 -> 150.1075 | U31: =O31/K31 -> 31.241289
C32: ='MONO C4'!K18 -> 240 | F32: ='MONO C4'!L18 -> 0 | G32: ='MONO C4'!M18 -> 40.46158 | H32: ='MONO C4'!N18 -> 18.868556 | I32: ='MONO C4'!O18 -> 63.183735 | J32: ='MONO C4'!P18 -> 29.773671 | K32: =SUM(F32:J32) -> 152.28754 | N32: =VLOOKUP('MONO C4'!I18,$A$3:$H$13,6,FALSE)+VLOOKUP('MONO C4'!I18,$A$3:$H$13,7,)+VLOOKUP('MONO C4'!I18,$A$3:$H$13,8,)*C32 -> 3206.1 | O32: =VLOOKUP('MONO C4'!I18,$A$3:$S$13,15,FALSE)*'TURPE (2)'!F32+VLOOKUP('MONO C4'!I18,$A$3:$S$13,16,FALSE)*'TURPE (2)'!G32+VLOOKUP('MONO C4'!I18,$A$3:$S$13,17,FALSE)*'TURPE (2)'!H32+VLOOKUP('MONO C4'!I18,$A$3:$S$13,18,FALSE)*'TURPE (2)'!I32+VLOOKUP('MONO C4'!I18,$A$3:$S$13,19,FALSE)*'TURPE (2)'!J32 -> 4694.2701 | P32: =N32+O32 -> 7900.3701 | Q32: =P32/K32 -> 51.87798 | S32: =N32*0.2193 -> 703.09773 | T32: =N32/12 -> 267.175 | U32: =O32/K32 -> 30.825043
C33: ='MONO C4'!K19 -> 90 | F33: ='MONO C4'!L19 -> 0 | G33: ='MONO C4'!M19 -> 33.377123 | H33: ='MONO C4'!N19 -> 16.438354 | I33: ='MONO C4'!O19 -> 41.287929 | J33: ='MONO C4'!P19 -> 20.281428 | K33: =SUM(F33:J33) -> 111.38483 | N33: =VLOOKUP('MONO C4'!I19,$A$3:$H$13,6,FALSE)+VLOOKUP('MONO C4'!I19,$A$3:$H$13,7,)+VLOOKUP('MONO C4'!I19,$A$3:$H$13,8,)*C33 -> 1464.6 | O33: =VLOOKUP('MONO C4'!I19,$A$3:$S$13,15,FALSE)*'TURPE (2)'!F33+VLOOKUP('MONO C4'!I19,$A$3:$S$13,16,FALSE)*'TURPE (2)'!G33+VLOOKUP('MONO C4'!I19,$A$3:$S$13,17,FALSE)*'TURPE (2)'!H33+VLOOKUP('MONO C4'!I19,$A$3:$S$13,18,FALSE)*'TURPE (2)'!I33+VLOOKUP('MONO C4'!I19,$A$3:$S$13,19,FALSE)*'TURPE (2)'!J33 -> 3577.681 | P33: =N33+O33 -> 5042.281 | Q33: =P33/K33 -> 45.269009 | S33: =N33*0.2193 -> 321.18678 | T33: =N33/12 -> 122.05 | U33: =O33/K33 -> 32.120001
C34: ='MONO C4'!K20 -> 1000 | F34: ='MONO C4'!L20 -> 0 | G34: ='MONO C4'!M20 -> 275.13331 | H34: ='MONO C4'!N20 -> 222.10645 | I34: ='MONO C4'!O20 -> 264.68581 | J34: ='MONO C4'!P20 -> 199.76652 | K34: =SUM(F34:J34) -> 961.6921 | N34: =VLOOKUP('MONO C4'!I20,$A$3:$H$13,6,FALSE)+VLOOKUP('MONO C4'!I20,$A$3:$H$13,7,)+VLOOKUP('MONO C4'!I20,$A$3:$H$13,8,)*C34 -> 5561.72 | O34: =VLOOKUP('MONO C4'!I20,$A$3:$S$13,15,FALSE)*'TURPE (2)'!F34+VLOOKUP('MONO C4'!I20,$A$3:$S$13,16,FALSE)*'TURPE (2)'!G34+VLOOKUP('MONO C4'!I20,$A$3:$S$13,17,FALSE)*'TURPE (2)'!H34+VLOOKUP('MONO C4'!I20,$A$3:$S$13,18,FALSE)*'TURPE (2)'!I34+VLOOKUP('MONO C4'!I20,$A$3:$S$13,19,FALSE)*'TURPE (2)'!J34 -> 19982.465 | P34: =N34+O34 -> 25544.185 | Q34: =P34/K34 -> 26.561708 | S34: =N34*0.2193 -> 1219.6852 | T34: =N34/12 -> 463.47667 | U34: =O34/K34 -> 20.778444
C35: ='MONO C4'!K21 -> 240 | F35: ='MONO C4'!L21 -> 0 | G35: ='MONO C4'!M21 -> 51.398134 | H35: ='MONO C4'!N21 -> 25.249513 | I35: ='MONO C4'!O21 -> 84.526576 | J35: ='MONO C4'!P21 -> 41.682139 | K35: =SUM(F35:J35) -> 202.85636 | N35: =VLOOKUP('MONO C4'!I21,$A$3:$H$13,6,FALSE)+VLOOKUP('MONO C4'!I21,$A$3:$H$13,7,)+VLOOKUP('MONO C4'!I21,$A$3:$H$13,8,)*C35 -> 3206.1 | O35: =VLOOKUP('MONO C4'!I21,$A$3:$S$13,15,FALSE)*'TURPE (2)'!F35+VLOOKUP('MONO C4'!I21,$A$3:$S$13,16,FALSE)*'TURPE (2)'!G35+VLOOKUP('MONO C4'!I21,$A$3:$S$13,17,FALSE)*'TURPE (2)'!H35+VLOOKUP('MONO C4'!I21,$A$3:$S$13,18,FALSE)*'TURPE (2)'!I35+VLOOKUP('MONO C4'!I21,$A$3:$S$13,19,FALSE)*'TURPE (2)'!J35 -> 6172.872 | P35: =N35+O35 -> 9378.972 | Q35: =P35/K35 -> 46.234547 | S35: =N35*0.2193 -> 703.09773 | T35: =N35/12 -> 267.175 | U35: =O35/K35 -> 30.429768
C36: ='MONO C4'!K22 -> 600 | F36: ='MONO C4'!L22 -> 0 | G36: ='MONO C4'!M22 -> 428.04191 | H36: ='MONO C4'!N22 -> 221.26121 | I36: ='MONO C4'!O22 -> 675.43072 | J36: ='MONO C4'!P22 -> 321.38179 | K36: =SUM(F36:J36) -> 1646.1156 | N36: =VLOOKUP('MONO C4'!I22,$A$3:$H$13,6,FALSE)+VLOOKUP('MONO C4'!I22,$A$3:$H$13,7,)+VLOOKUP('MONO C4'!I22,$A$3:$H$13,8,)*C36 -> 3609.72 | O36: =VLOOKUP('MONO C4'!I22,$A$3:$S$13,15,FALSE)*'TURPE (2)'!F36+VLOOKUP('MONO C4'!I22,$A$3:$S$13,16,FALSE)*'TURPE (2)'!G36+VLOOKUP('MONO C4'!I22,$A$3:$S$13,17,FALSE)*'TURPE (2)'!H36+VLOOKUP('MONO C4'!I22,$A$3:$S$13,18,FALSE)*'TURPE (2)'!I36+VLOOKUP('MONO C4'!I22,$A$3:$S$13,19,FALSE)*'TURPE (2)'!J36 -> 32821.729 | P36: =N36+O36 -> 36431.449 | Q36: =P36/K36 -> 22.131768 | S36: =N36*0.2193 -> 791.6116 | T36: =N36/12 -> 300.81 | U36: =O36/K36 -> 19.938897
C37: ='MONO C4'!K23 -> 42 | F37: ='MONO C4'!L23 -> 0 | G37: ='MONO C4'!M23 -> 7.2322069 | H37: ='MONO C4'!N23 -> 4.1325733 | I37: ='MONO C4'!O23 -> 6.2747166 | J37: ='MONO C4'!P23 -> 4.159481 | K37: =SUM(F37:J37) -> 21.798978 | N37: =VLOOKUP('MONO C4'!I23,$A$3:$H$13,6,FALSE)+VLOOKUP('MONO C4'!I23,$A$3:$H$13,7,)+VLOOKUP('MONO C4'!I23,$A$3:$H$13,8,)*C37 -> 1283.64 | O37: =VLOOKUP('MONO C4'!I23,$A$3:$S$13,15,FALSE)*'TURPE (2)'!F37+VLOOKUP('MONO C4'!I23,$A$3:$S$13,16,FALSE)*'TURPE (2)'!G37+VLOOKUP('MONO C4'!I23,$A$3:$S$13,17,FALSE)*'TURPE (2)'!H37+VLOOKUP('MONO C4'!I23,$A$3:$S$13,18,FALSE)*'TURPE (2)'!I37+VLOOKUP('MONO C4'!I23,$A$3:$S$13,19,FALSE)*'TURPE (2)'!J37 -> 645.1153 | P37: =N37+O37 -> 1928.7553 | Q37: =P37/K37 -> 88.479163 | S37: =N37*0.2193 -> 281.50225 | T37: =N37/12 -> 106.97 | U37: =O37/K37 -> 29.593833
C38: ='MONO C4'!K24 -> 96 | F38: ='MONO C4'!L24 -> 0 | G38: ='MONO C4'!M24 -> 76.61676 | H38: ='MONO C4'!N24 -> 31.366078 | I38: ='MONO C4'!O24 -> 103.5111 | J38: ='MONO C4'!P24 -> 41.641114 | K38: =SUM(F38:J38) -> 253.13506 | N38: =VLOOKUP('MONO C4'!I24,$A$3:$H$13,6,FALSE)+VLOOKUP('MONO C4'!I24,$A$3:$H$13,7,)+VLOOKUP('MONO C4'!I24,$A$3:$H$13,8,)*C38 -> 1534.26 | O38: =VLOOKUP('MONO C4'!I24,$A$3:$S$13,15,FALSE)*'TURPE (2)'!F38+VLOOKUP('MONO C4'!I24,$A$3:$S$13,16,FALSE)*'TURPE (2)'!G38+VLOOKUP('MONO C4'!I24,$A$3:$S$13,17,FALSE)*'TURPE (2)'!H38+VLOOKUP('MONO C4'!I24,$A$3:$S$13,18,FALSE)*'TURPE (2)'!I38+VLOOKUP('MONO C4'!I24,$A$3:$S$13,19,FALSE)*'TURPE (2)'!J38 -> 8109.2566 | P38: =N38+O38 -> 9643.5166 | Q38: =P38/K38 -> 38.09633 | S38: =N38*0.2193 -> 336.46322 | T38: =N38/12 -> 127.855 | U38: =O38/K38 -> 32.035297
... C52: ='MONO C4'!K38 -> 0 | F52: ='MONO C4'!L38 -> 0 | G52: ='MONO C4'!M38 -> 0 | H52: ='MONO C4'!N38 -> 0 | I52: ='MONO C4'!O38 -> 0 | J52: ='MONO C4'!P38 -> 0 | K52: =SUM(F52:J52) -> 0 | N52: =VLOOKUP('MONO C4'!I38,$A$3:$H$13,6,FALSE)+VLOOKUP('MONO C4'!I38,$A$3:$H$13,7,)+VLOOKUP('MONO C4'!I38,$A$3:$H$13,8,)*C52 -> 681.72 | O52: =VLOOKUP('MONO C4'!I38,$A$3:$S$13,15,FALSE)*'TURPE (2)'!F52+VLOOKUP('MONO C4'!I38,$A$3:$S$13,16,FALSE)*'TURPE (2)'!G52+VLOOKUP('MONO C4'!I38,$A$3:$S$13,17,FALSE)*'TURPE (2)'!H52+VLOOKUP('MONO C4'!I38,$A$3:$S$13,18,FALSE)*'TURPE (2)'!I52+VLOOKUP('MONO C4'!I38,$A$3:$S$13,19,FALSE)*'TURPE (2)'!J52 -> 0 | P52: =N52+O52 -> 681.72 | Q52: =P52/K52 -> #DIV/0! | S52: =N52*0.2193 -> 149.5012 | T52: =N52/12 -> 56.81 | U52: =O52/K52 -> #DIV/0!
C53: ='MONO C4'!K39 -> 0
C54: ='MONO C4'!K40 -> 0
C55: ='MONO C4'!K41 -> 0
C56: ='MONO C4'!K42 -> Coût de capacité (estimation)
...

Sheet Listing
A1: TENSION | B1: UTILISATION | C1: INDEX | D1: PUISSANCE | H1: Fournisseurs
A2: BT | B2: CU | C2: 1 | D2: INF 36 | H2: ENGIE
A3: HT | B3: MU | C3: 2 | D3: SUP 36 | H3: PRIMEO
B4: LU | C4: 4 | H4: GAZPROM
C5: 5 | H5: ANTARGAZ
C6: 5.1 | H6: VATTENFALL
H7: ENOVOS
H8: GAZEL
H9: PICOTY
H10: ENI
